BEGIN:VCALENDAR
VERSION:2.0
PRODID:-//Schützengesellschaft Hehn 1910 e. V. - ECPv6.15.20//NONSGML v1.0//EN
CALSCALE:GREGORIAN
METHOD:PUBLISH
X-WR-CALNAME:Schützengesellschaft Hehn 1910 e. V.
X-ORIGINAL-URL:https://sghehn.de
X-WR-CALDESC:Veranstaltungen für Schützengesellschaft Hehn 1910 e. V.
REFRESH-INTERVAL;VALUE=DURATION:PT1H
X-Robots-Tag:noindex
X-PUBLISHED-TTL:PT1H
BEGIN:VTIMEZONE
TZID:Europe/Berlin
BEGIN:DAYLIGHT
TZOFFSETFROM:+0100
TZOFFSETTO:+0200
TZNAME:CEST
DTSTART:20250330T010000
END:DAYLIGHT
BEGIN:STANDARD
TZOFFSETFROM:+0200
TZOFFSETTO:+0100
TZNAME:CET
DTSTART:20251026T010000
END:STANDARD
BEGIN:DAYLIGHT
TZOFFSETFROM:+0100
TZOFFSETTO:+0200
TZNAME:CEST
DTSTART:20260329T010000
END:DAYLIGHT
BEGIN:STANDARD
TZOFFSETFROM:+0200
TZOFFSETTO:+0100
TZNAME:CET
DTSTART:20261025T010000
END:STANDARD
BEGIN:DAYLIGHT
TZOFFSETFROM:+0100
TZOFFSETTO:+0200
TZNAME:CEST
DTSTART:20270328T010000
END:DAYLIGHT
BEGIN:STANDARD
TZOFFSETFROM:+0200
TZOFFSETTO:+0100
TZNAME:CET
DTSTART:20271031T010000
END:STANDARD
END:VTIMEZONE
BEGIN:VEVENT
DTSTART;VALUE=DATE:20260502
DTEND;VALUE=DATE:20260503
DTSTAMP:20260421T150440
CREATED:20251004T075040Z
LAST-MODIFIED:20251004T080238Z
UID:6079-1777680000-1777766399@sghehn.de
SUMMARY:LVM Luftgewehr / Luftpistole Schüler - Jugend - Junioren
DESCRIPTION:
URL:https://sghehn.de/event/lvm-luftgewehr-jugend/
LOCATION:LLZ Dortmund\, Eberstraße 30\, Dortmund\, NRW\, 44145\, Deutschland
CATEGORIES:Jugend,Landesverbandsmeisterschaft,Wettkampf
ATTACH;FMTTYPE=image/png:https://sghehn.de/wp-content/uploads/2023/03/Rheinischer_Schuetzenbund_Logo.png
END:VEVENT
BEGIN:VEVENT
DTSTART;VALUE=DATE:20260502
DTEND;VALUE=DATE:20260503
DTSTAMP:20260421T150440
CREATED:20251004T075557Z
LAST-MODIFIED:20251004T075631Z
UID:6085-1777680000-1777766399@sghehn.de
SUMMARY:LVM Luftgewehr SH2/AB2 mit Hilfsmittel
DESCRIPTION:
URL:https://sghehn.de/event/lvm-luftgewehr-sh2-ab2-mit-hilfsmittel/
LOCATION:LLZ Dortmund\, Eberstraße 30\, Dortmund\, NRW\, 44145\, Deutschland
CATEGORIES:Landesverbandsmeisterschaft,Wettkampf
ATTACH;FMTTYPE=image/png:https://sghehn.de/wp-content/uploads/2023/03/Rheinischer_Schuetzenbund_Logo.png
END:VEVENT
BEGIN:VEVENT
DTSTART;VALUE=DATE:20260502
DTEND;VALUE=DATE:20260504
DTSTAMP:20260421T150440
CREATED:20251004T075810Z
LAST-MODIFIED:20251004T075835Z
UID:6087-1777680000-1777852799@sghehn.de
SUMMARY:LVM Luftpistole Damenklasse
DESCRIPTION:Die Disziplin Luftpistole (alle Damen) sind zunächst für den 02.05.2026 geplant. Aufgrund der eingehenden Meldungen könnten die Klassen ggf. auf den 03.05.2026 verlegt werden.
URL:https://sghehn.de/event/lvm-luftpistole-damenklasse/
LOCATION:LLZ Dortmund\, Eberstraße 30\, Dortmund\, NRW\, 44145\, Deutschland
CATEGORIES:Landesverbandsmeisterschaft,Wettkampf
ATTACH;FMTTYPE=image/png:https://sghehn.de/wp-content/uploads/2023/03/Rheinischer_Schuetzenbund_Logo.png
END:VEVENT
END:VCALENDAR