BEGIN:VCALENDAR
VERSION:2.0
PRODID:-//Schützengesellschaft Hehn 1910 e. V. - ECPv6.15.20//NONSGML v1.0//EN
CALSCALE:GREGORIAN
METHOD:PUBLISH
X-ORIGINAL-URL:https://sghehn.de
X-WR-CALDESC:Veranstaltungen für Schützengesellschaft Hehn 1910 e. V.
REFRESH-INTERVAL;VALUE=DURATION:PT1H
X-Robots-Tag:noindex
X-PUBLISHED-TTL:PT1H
BEGIN:VTIMEZONE
TZID:Europe/Berlin
BEGIN:DAYLIGHT
TZOFFSETFROM:+0100
TZOFFSETTO:+0200
TZNAME:CEST
DTSTART:20250330T010000
END:DAYLIGHT
BEGIN:STANDARD
TZOFFSETFROM:+0200
TZOFFSETTO:+0100
TZNAME:CET
DTSTART:20251026T010000
END:STANDARD
BEGIN:DAYLIGHT
TZOFFSETFROM:+0100
TZOFFSETTO:+0200
TZNAME:CEST
DTSTART:20260329T010000
END:DAYLIGHT
BEGIN:STANDARD
TZOFFSETFROM:+0200
TZOFFSETTO:+0100
TZNAME:CET
DTSTART:20261025T010000
END:STANDARD
BEGIN:DAYLIGHT
TZOFFSETFROM:+0100
TZOFFSETTO:+0200
TZNAME:CEST
DTSTART:20270328T010000
END:DAYLIGHT
BEGIN:STANDARD
TZOFFSETFROM:+0200
TZOFFSETTO:+0100
TZNAME:CET
DTSTART:20271031T010000
END:STANDARD
END:VTIMEZONE
BEGIN:VEVENT
DTSTART;VALUE=DATE:20260502
DTEND;VALUE=DATE:20260504
DTSTAMP:20260423T112846
CREATED:20251004T075810Z
LAST-MODIFIED:20251004T075835Z
UID:6087-1777680000-1777852799@sghehn.de
SUMMARY:LVM Luftpistole Damenklasse
DESCRIPTION:Die Disziplin Luftpistole (alle Damen) sind zunächst für den 02.05.2026 geplant. Aufgrund der eingehenden Meldungen könnten die Klassen ggf. auf den 03.05.2026 verlegt werden.
URL:https://sghehn.de/event/lvm-luftpistole-damenklasse/
LOCATION:LLZ Dortmund\, Eberstraße 30\, Dortmund\, NRW\, 44145\, Deutschland
CATEGORIES:Landesverbandsmeisterschaft,Wettkampf
ATTACH;FMTTYPE=image/png:https://sghehn.de/wp-content/uploads/2023/03/Rheinischer_Schuetzenbund_Logo.png
END:VEVENT
BEGIN:VEVENT
DTSTART;VALUE=DATE:20260503
DTEND;VALUE=DATE:20260504
DTSTAMP:20260423T112846
CREATED:20251004T075244Z
LAST-MODIFIED:20251004T080149Z
UID:6081-1777766400-1777852799@sghehn.de
SUMMARY:LVM Luftgewehr ab Herren / Damen I
DESCRIPTION:
URL:https://sghehn.de/event/lvm-luftgewehr-luftpistole-ab-22-jahre/
LOCATION:LLZ Dortmund\, Eberstraße 30\, Dortmund\, NRW\, 44145\, Deutschland
CATEGORIES:Landesverbandsmeisterschaft,Wettkampf
ATTACH;FMTTYPE=image/png:https://sghehn.de/wp-content/uploads/2023/03/Rheinischer_Schuetzenbund_Logo.png
END:VEVENT
BEGIN:VEVENT
DTSTART;VALUE=DATE:20260503
DTEND;VALUE=DATE:20260504
DTSTAMP:20260423T112846
CREATED:20251004T080428Z
LAST-MODIFIED:20251004T080428Z
UID:6096-1777766400-1777852799@sghehn.de
SUMMARY:LVM Luftpistole Herrenklasse
DESCRIPTION:
URL:https://sghehn.de/event/lvm-luftpistole-herrenklasse/
LOCATION:LLZ Dortmund\, Eberstraße 30\, Dortmund\, NRW\, 44145\, Deutschland
CATEGORIES:Landesverbandsmeisterschaft,Wettkampf
ATTACH;FMTTYPE=image/png:https://sghehn.de/wp-content/uploads/2023/03/Rheinischer_Schuetzenbund_Logo.png
END:VEVENT
BEGIN:VEVENT
DTSTART;VALUE=DATE:20260503
DTEND;VALUE=DATE:20260504
DTSTAMP:20260423T112846
CREATED:20251004T081019Z
LAST-MODIFIED:20251004T081019Z
UID:6104-1777766400-1777852799@sghehn.de
SUMMARY:LVM Zimmerstutzen
DESCRIPTION:
URL:https://sghehn.de/event/lvm-zimmerstutzen-2/
LOCATION:LLZ Dortmund\, Eberstraße 30\, Dortmund\, NRW\, 44145\, Deutschland
CATEGORIES:Landesverbandsmeisterschaft,Wettkampf
ATTACH;FMTTYPE=image/png:https://sghehn.de/wp-content/uploads/2023/03/Rheinischer_Schuetzenbund_Logo.png
END:VEVENT
BEGIN:VEVENT
DTSTART;TZID=Europe/Berlin:20260503T110000
DTEND;TZID=Europe/Berlin:20260503T160000
DTSTAMP:20260423T112846
CREATED:20260225T183810Z
LAST-MODIFIED:20260225T183810Z
UID:6909-1777806000-1777824000@sghehn.de
SUMMARY:Lichtschießen auf dem Pfarrfest in Hehn
DESCRIPTION:Auch in diesem Jahr sind wir wieder mit den Lichtgewehren und der Lichtpistole auf dem Hehner Pfarrfest vertreten. Ihr findet uns in der Turnhalle. \nJede/r kann hier kostenfrei seine Stand- und Treffsicherheit und seinen Nerven testen. Das Lichtschießen ist ab 8 Jahren möglich. \n 
URL:https://sghehn.de/event/lichtschiessen-auf-dem-pfarrfest-in-hehn-2/
LOCATION:Pfarrheim Hehn\, Heiligenpesch 77-79\, Mönchengladbach\, Nordrhein-Westfalen\, 41069\, Deutschland
CATEGORIES:Feierlichkeiten,Jugend,Lichtschiessen
ATTACH;FMTTYPE=image/jpeg:https://sghehn.de/wp-content/uploads/2023/03/1288-e1682580911469.jpg
END:VEVENT
END:VCALENDAR