BEGIN:VCALENDAR
VERSION:2.0
PRODID:-//Schützengesellschaft Hehn 1910 e. V. - ECPv6.15.20//NONSGML v1.0//EN
CALSCALE:GREGORIAN
METHOD:PUBLISH
X-ORIGINAL-URL:https://sghehn.de
X-WR-CALDESC:Veranstaltungen für Schützengesellschaft Hehn 1910 e. V.
REFRESH-INTERVAL;VALUE=DURATION:PT1H
X-Robots-Tag:noindex
X-PUBLISHED-TTL:PT1H
BEGIN:VTIMEZONE
TZID:Europe/Berlin
BEGIN:DAYLIGHT
TZOFFSETFROM:+0100
TZOFFSETTO:+0200
TZNAME:CEST
DTSTART:20250330T010000
END:DAYLIGHT
BEGIN:STANDARD
TZOFFSETFROM:+0200
TZOFFSETTO:+0100
TZNAME:CET
DTSTART:20251026T010000
END:STANDARD
BEGIN:DAYLIGHT
TZOFFSETFROM:+0100
TZOFFSETTO:+0200
TZNAME:CEST
DTSTART:20260329T010000
END:DAYLIGHT
BEGIN:STANDARD
TZOFFSETFROM:+0200
TZOFFSETTO:+0100
TZNAME:CET
DTSTART:20261025T010000
END:STANDARD
BEGIN:DAYLIGHT
TZOFFSETFROM:+0100
TZOFFSETTO:+0200
TZNAME:CEST
DTSTART:20270328T010000
END:DAYLIGHT
BEGIN:STANDARD
TZOFFSETFROM:+0200
TZOFFSETTO:+0100
TZNAME:CET
DTSTART:20271031T010000
END:STANDARD
END:VTIMEZONE
BEGIN:VEVENT
DTSTART;VALUE=DATE:20260628
DTEND;VALUE=DATE:20260629
DTSTAMP:20260421T200802
CREATED:20251004T075958Z
LAST-MODIFIED:20251004T080102Z
UID:6090-1782604800-1782691199@sghehn.de
SUMMARY:LVM Luftgewehr - Auflage Herren / Damen II
DESCRIPTION:
URL:https://sghehn.de/event/lvm-luftgewehr-auflage-herren-damen-ii/
LOCATION:LLZ Gymnich\, Brüggener Str. 113\, Erftstadt\, NRW\, 50374\, Germany
CATEGORIES:Landesverbandsmeisterschaft,Wettkampf
ATTACH;FMTTYPE=image/png:https://sghehn.de/wp-content/uploads/2023/03/Rheinischer_Schuetzenbund_Logo.png
END:VEVENT
BEGIN:VEVENT
DTSTART;VALUE=DATE:20260628
DTEND;VALUE=DATE:20260629
DTSTAMP:20260421T200802
CREATED:20251004T085550Z
LAST-MODIFIED:20251004T085550Z
UID:6144-1782604800-1782691199@sghehn.de
SUMMARY:LVM 25 m Revolver .357 Magnum
DESCRIPTION:
URL:https://sghehn.de/event/lvm-25-m-revolver-357-magnum-2/
LOCATION:Bingen\, Sandstraße\, Bingen-Dietersheim\, NRW\, 55411\, Deutschland
CATEGORIES:Landesverbandsmeisterschaft,Wettkampf
ATTACH;FMTTYPE=image/png:https://sghehn.de/wp-content/uploads/2023/03/Rheinischer_Schuetzenbund_Logo.png
END:VEVENT
END:VCALENDAR