BEGIN:VCALENDAR
VERSION:2.0
PRODID:-//Schützengesellschaft Hehn 1910 e. V. - ECPv6.15.20//NONSGML v1.0//EN
CALSCALE:GREGORIAN
METHOD:PUBLISH
X-ORIGINAL-URL:https://sghehn.de
X-WR-CALDESC:Veranstaltungen für Schützengesellschaft Hehn 1910 e. V.
REFRESH-INTERVAL;VALUE=DURATION:PT1H
X-Robots-Tag:noindex
X-PUBLISHED-TTL:PT1H
BEGIN:VTIMEZONE
TZID:Europe/Berlin
BEGIN:DAYLIGHT
TZOFFSETFROM:+0100
TZOFFSETTO:+0200
TZNAME:CEST
DTSTART:20250330T010000
END:DAYLIGHT
BEGIN:STANDARD
TZOFFSETFROM:+0200
TZOFFSETTO:+0100
TZNAME:CET
DTSTART:20251026T010000
END:STANDARD
BEGIN:DAYLIGHT
TZOFFSETFROM:+0100
TZOFFSETTO:+0200
TZNAME:CEST
DTSTART:20260329T010000
END:DAYLIGHT
BEGIN:STANDARD
TZOFFSETFROM:+0200
TZOFFSETTO:+0100
TZNAME:CET
DTSTART:20261025T010000
END:STANDARD
BEGIN:DAYLIGHT
TZOFFSETFROM:+0100
TZOFFSETTO:+0200
TZNAME:CEST
DTSTART:20270328T010000
END:DAYLIGHT
BEGIN:STANDARD
TZOFFSETFROM:+0200
TZOFFSETTO:+0100
TZNAME:CET
DTSTART:20271031T010000
END:STANDARD
END:VTIMEZONE
BEGIN:VEVENT
DTSTART;TZID=Europe/Berlin:20260404T153000
DTEND;TZID=Europe/Berlin:20260404T163000
DTSTAMP:20260420T112220
CREATED:20260225T183049Z
LAST-MODIFIED:20260314T124855Z
UID:6906-1775316600-1775320200@sghehn.de
SUMMARY:Lichtschießen am Karsamstag
DESCRIPTION:Am Karsamstag den 04. April werden wir im Rahmen der alljährlichen Eiersuche für Kinder der Frauengemeinschaft Hehn auch wieder unser Lichtschießen anbieten. \nIn Anlehnung an das frühere Ostereierschießen werden als Preis für gute Treffen bunte Eier verteilt. \nAb ca. 15:30 Uhr geht es los. Die Teilnahme ist kostenfrei.
URL:https://sghehn.de/event/lichtschiessen-an-karsamstag/
LOCATION:Pfarrheim Hehn\, Heiligenpesch 77-79\, Mönchengladbach\, Nordrhein-Westfalen\, 41069\, Deutschland
CATEGORIES:Feierlichkeiten,Jugend,Lichtschiessen
ATTACH;FMTTYPE=image/jpeg:https://sghehn.de/wp-content/uploads/2023/03/1288-e1682580911469.jpg
END:VEVENT
BEGIN:VEVENT
DTSTART;TZID=Europe/Berlin:20260322T100000
DTEND;TZID=Europe/Berlin:20260322T170000
DTSTAMP:20260420T112220
CREATED:20260122T134622Z
LAST-MODIFIED:20260222T182528Z
UID:6541-1774173600-1774198800@sghehn.de
SUMMARY:Relegation zur Landesliga - Luftgewehr
DESCRIPTION:Nach dem Erreichen des ersten Platzes in der Bezirksliga\, steht nun für unsere zweite Mannschaft die Relegation zur Landesliga an. \nDie Mannschaft besteht aus den nachfolgenden Schützinnen und Schützen: \nSofie Vanneste \nKirsten Dimke \nMax Ditges \nAlina Münch \nHeinz Dieter Werner \nErsatz sind Nils Deckers\, Jens Engel und Heiner Hansen \n 
URL:https://sghehn.de/event/relegation-zur-landesliga-luftgewehr-auflage/
LOCATION:LLSt. Essen-Bergeborbeck\, Hafenstraße 10\, Essen\, NRW\, 45356\, Deutschland
ATTACH;FMTTYPE=image/png:https://sghehn.de/wp-content/uploads/2023/03/Rheinischer_Schuetzenbund_Logo.png
END:VEVENT
BEGIN:VEVENT
DTSTART;TZID=Europe/Berlin:20260321T090000
DTEND;TZID=Europe/Berlin:20260321T170000
DTSTAMP:20260420T112220
CREATED:20260122T135452Z
LAST-MODIFIED:20260207T105241Z
UID:6547-1774083600-1774112400@sghehn.de
SUMMARY:Relegation zur Landesliga Luftgewehr-Auflage
DESCRIPTION:Nach dem Erreichen des ersten Platzes in der Bezirksliga\, steht nun für unsere erste Mannschaft die Relegation zur Landesliga an. \nDie Mannschaft besteht aus den nachfolgenden Schützinnen und Schützen: \nThomas Brocher \nStefan Model \nStephan Heitzer \nFredi Hermes \nClaudia Heinrichs \nErsatz sind Elke Rögge und Bert Kerfers
URL:https://sghehn.de/event/relegation-zur-landeliga-luftgewehr-auflage/
LOCATION:LLSt. Essen-Bergeborbeck\, Hafenstraße 10\, Essen\, NRW\, 45356\, Deutschland
CATEGORIES:Relegation,Wettkampf
ATTACH;FMTTYPE=image/png:https://sghehn.de/wp-content/uploads/2023/03/Rheinischer_Schuetzenbund_Logo.png
END:VEVENT
BEGIN:VEVENT
DTSTART;TZID=Europe/Berlin:20260320T150000
DTEND;TZID=Europe/Berlin:20260320T170000
DTSTAMP:20260420T112220
CREATED:20260313T122529Z
LAST-MODIFIED:20260314T131002Z
UID:6969-1774018800-1774026000@sghehn.de
SUMMARY:Schießstandreinigung in Rheindahlen
DESCRIPTION:Wir sind im Monat März mit der Reinigung des KK-Standes in Rheindahlen dran. \nEs kann am Freitag\, den 20.03.2026 ab 15:00 Uhr gereinigt werden. \nEs müssen nachfolgende Arbeiten erledigt werden: \n\nPVC Böden kehren und nass reinigen.\nAufenthaltsraum vor dem KK-Stand reinigen.\nFenster. in dem Bereich reinigen.\nAlle Tische und Stühle reinigen.\nKontrollieren ob alle Schrauben an den Stühlen und Tischen fest sind\, ggf. anziehen oder ersetzen.\nAlle Teppichböden staubsaugen.\nMessrahmen reinigen. (Verblendung demontieren\, Messrahmen aus Halterung entfernen und Blei / Bleistaub vorsichtig entfernen.)\nKK-Stand nass reinigen.\nKK-Stand Blei aus den Granulatkugelfängen mit Trennmaschine enfernen\nKK-Stand Granulatblöcke tauschen / mit Granulat wieder verschweißen\nKK-Stand Betonblock mit Kugelfängen absaugen\, auch hinter dem Betonblock reinigen.
URL:https://sghehn.de/event/schiessstandreinigung-in-rheindahlen-2/
LOCATION:Schießstand Rheindahlen\, Geusenstraße 27\, Mönchengladbach\, NRW\, 41179\, Deutschland
CATEGORIES:Reinigung des Schießstands
ATTACH;FMTTYPE=image/jpeg:https://sghehn.de/wp-content/uploads/2023/03/wappen_sghehn_20prozent.jpg
END:VEVENT
BEGIN:VEVENT
DTSTART;TZID=Europe/Berlin:20260312T193000
DTEND;TZID=Europe/Berlin:20260312T220000
DTSTAMP:20260420T112220
CREATED:20260110T131356Z
LAST-MODIFIED:20260225T183321Z
UID:6502-1773343800-1773352800@sghehn.de
SUMMARY:Jahreshauptversammlung 2026
DESCRIPTION:Donnerstag 12. März 2026 um 19:30 Uhr \n\nDie Einladungen inkl. der Tagesordnung werden bis Mitte Februar allen Mitgliedern per Mail und/oder Post zugestellt. \n  \n 
URL:https://sghehn.de/event/jahreshauptversammlung-2026/
LOCATION:Haus Heiligenpesch\, Heiligenpessch 106\, Mönchengaldbach\, NRW\, 41069\, Deutschland
CATEGORIES:Ehrungen,Feierlichkeiten,Versammlungen
ATTACH;FMTTYPE=image/jpeg:https://sghehn.de/wp-content/uploads/2023/03/WEB-SG-Hehn-Wappen-1.jpg
END:VEVENT
BEGIN:VEVENT
DTSTART;TZID=Europe/Berlin:20260308T100000
DTEND;TZID=Europe/Berlin:20260308T170000
DTSTAMP:20260420T112220
CREATED:20260122T130015Z
LAST-MODIFIED:20260122T130931Z
UID:6530-1772964000-1772989200@sghehn.de
SUMMARY:Relegation zur Rheinlandliga - Luftgewehr
DESCRIPTION:Nach dem Erreichen des zweiten Platzes in der Landesoberliga\, steht nun die Relegation zur Rheinlandliga an. \nDie Mannschaft besteht aus den nachfolgenden Schützinnen und Schützen: \nDemi Holthuijzen / Annelore Bijnens \nUte Eckl \nSascha Peglow \nHardi Meyers \nKatharina Bode \nErsatz sind Kirsten Dimke und Guido Weingran \nErster Start ist um 11:20 Uhr\, der zweite um 15:20 Uhr \n  \n 
URL:https://sghehn.de/event/relegation-zur-rheinlandliga-luftgewehr/
LOCATION:Schießstand Inden/ Altdorf\, Merödgenerstr. 37\, Inden / Altdorf\, NRW\, 52459\, Germany
CATEGORIES:Relegation,Wettkampf
ATTACH;FMTTYPE=image/png:https://sghehn.de/wp-content/uploads/2023/03/Rheinischer_Schuetzenbund_Logo.png
END:VEVENT
BEGIN:VEVENT
DTSTART;TZID=Europe/Berlin:20260224T170000
DTEND;TZID=Europe/Berlin:20260224T200000
DTSTAMP:20260420T112220
CREATED:20251004T073555Z
LAST-MODIFIED:20251004T073555Z
UID:6068-1771952400-1771963200@sghehn.de
SUMMARY:BM KK 3 x 40
DESCRIPTION:
URL:https://sghehn.de/event/bm-kk-3-x-40/
LOCATION:Schießstand Rheindahlen\, Geusenstraße 27\, Mönchengladbach\, NRW\, 41179\, Deutschland
CATEGORIES:Bezirksmeisterschaft,Wettkampf
ATTACH;FMTTYPE=image/png:https://sghehn.de/wp-content/uploads/2025/02/Logo-Bezirk-04-e1740421831199.png
END:VEVENT
BEGIN:VEVENT
DTSTART;TZID=Europe/Berlin:20260222T090000
DTEND;TZID=Europe/Berlin:20260222T170000
DTSTAMP:20260420T112220
CREATED:20251004T073441Z
LAST-MODIFIED:20260314T124950Z
UID:6066-1771750800-1771779600@sghehn.de
SUMMARY:BM 25 m Pistole
DESCRIPTION:
URL:https://sghehn.de/event/bm-25-m-pistole-3/
LOCATION:SG Bungt\, In der Bungt 80\, Mönchengaldbach\, NRW\, 41065\, Deutschland
CATEGORIES:Bezirksmeisterschaft,Wettkampf
ATTACH;FMTTYPE=image/png:https://sghehn.de/wp-content/uploads/2025/02/Logo-Bezirk-04-e1740421831199.png
END:VEVENT
BEGIN:VEVENT
DTSTART;TZID=Europe/Berlin:20260221T130000
DTEND;TZID=Europe/Berlin:20260221T170000
DTSTAMP:20260420T112220
CREATED:20251004T073340Z
LAST-MODIFIED:20251004T073340Z
UID:6064-1771678800-1771693200@sghehn.de
SUMMARY:BM 25 m Pistole .45 ACP
DESCRIPTION:
URL:https://sghehn.de/event/bm-25-m-pistole-45-acp-3/
LOCATION:SG Bungt\, In der Bungt 80\, Mönchengaldbach\, NRW\, 41065\, Deutschland
CATEGORIES:Bezirksmeisterschaft,Wettkampf
ATTACH;FMTTYPE=image/png:https://sghehn.de/wp-content/uploads/2025/02/Logo-Bezirk-04-e1740421831199.png
END:VEVENT
BEGIN:VEVENT
DTSTART;VALUE=DATE:20260221
DTEND;VALUE=DATE:20260222
DTSTAMP:20260420T112220
CREATED:20251004T073229Z
LAST-MODIFIED:20251004T073229Z
UID:6062-1771632000-1771718399@sghehn.de
SUMMARY:BM KK-Liegendkampf\, KK 3 Position
DESCRIPTION:
URL:https://sghehn.de/event/bm-kk-liegendkampf-kk-3-position/
LOCATION:Schießstand Rheindahlen\, Geusenstraße 27\, Mönchengladbach\, NRW\, 41179\, Deutschland
CATEGORIES:Bezirksmeisterschaft,Wettkampf
ATTACH;FMTTYPE=image/png:https://sghehn.de/wp-content/uploads/2025/02/Logo-Bezirk-04-e1740421831199.png
END:VEVENT
BEGIN:VEVENT
DTSTART;VALUE=DATE:20260221
DTEND;VALUE=DATE:20260222
DTSTAMP:20260420T112220
CREATED:20251004T073039Z
LAST-MODIFIED:20251004T073039Z
UID:6060-1771632000-1771718399@sghehn.de
SUMMARY:BM 25 m Pistole - Auflage\, beidhändig
DESCRIPTION:
URL:https://sghehn.de/event/bm-25-m-pistole-auflage-beidhaendig-2/
LOCATION:KLS Neuss – Allerheiligen\, Am Alten Bach 35\, Neuss\, NRW\, 41470\, Germany
CATEGORIES:Bezirksmeisterschaft,Wettkampf
ATTACH;FMTTYPE=image/png:https://sghehn.de/wp-content/uploads/2025/02/Logo-Bezirk-04-e1740421831199.png
END:VEVENT
BEGIN:VEVENT
DTSTART;TZID=Europe/Berlin:20260214T130000
DTEND;TZID=Europe/Berlin:20260214T170000
DTSTAMP:20260420T112220
CREATED:20251004T072928Z
LAST-MODIFIED:20251004T072928Z
UID:6058-1771074000-1771088400@sghehn.de
SUMMARY:BM 25 m Revolver .44 Magnum
DESCRIPTION:
URL:https://sghehn.de/event/bm-25-m-revolver-44-magnum-2/
LOCATION:SG Bungt\, In der Bungt 80\, Mönchengaldbach\, NRW\, 41065\, Deutschland
CATEGORIES:Bezirksmeisterschaft,Wettkampf
ATTACH;FMTTYPE=image/png:https://sghehn.de/wp-content/uploads/2025/02/Logo-Bezirk-04-e1740421831199.png
END:VEVENT
BEGIN:VEVENT
DTSTART;TZID=Europe/Berlin:20260211T170000
DTEND;TZID=Europe/Berlin:20260211T190000
DTSTAMP:20260420T112220
CREATED:20251004T072121Z
LAST-MODIFIED:20251004T072121Z
UID:6046-1770829200-1770836400@sghehn.de
SUMMARY:BM Ordonanzgewehr offen - geschlossen
DESCRIPTION:
URL:https://sghehn.de/event/bm-ordonanzgewehr-offen-geschlossen/
LOCATION:SG Bungt\, In der Bungt 80\, Mönchengaldbach\, NRW\, 41065\, Deutschland
CATEGORIES:Bezirksmeisterschaft,Wettkampf
ATTACH;FMTTYPE=image/png:https://sghehn.de/wp-content/uploads/2025/02/Logo-Bezirk-04-e1740421831199.png
END:VEVENT
BEGIN:VEVENT
DTSTART;TZID=Europe/Berlin:20260208T090000
DTEND;TZID=Europe/Berlin:20260208T140000
DTSTAMP:20260420T112220
CREATED:20251004T072705Z
LAST-MODIFIED:20251004T072705Z
UID:6054-1770541200-1770559200@sghehn.de
SUMMARY:BM KK 100 Meter\, KK 100 Meter - Auflage 74 - 79
DESCRIPTION:
URL:https://sghehn.de/event/bm-kk-100-meter-kk-100-meter-auflage-74-79/
LOCATION:SG Bungt\, In der Bungt 80\, Mönchengaldbach\, NRW\, 41065\, Deutschland
CATEGORIES:Bezirksmeisterschaft,Wettkampf
ATTACH;FMTTYPE=image/png:https://sghehn.de/wp-content/uploads/2025/02/Logo-Bezirk-04-e1740421831199.png
END:VEVENT
BEGIN:VEVENT
DTSTART;VALUE=DATE:20260208
DTEND;VALUE=DATE:20260209
DTSTAMP:20260420T112220
CREATED:20251004T072811Z
LAST-MODIFIED:20251004T072811Z
UID:6056-1770508800-1770595199@sghehn.de
SUMMARY:BM KK 50 Meter - Auflage
DESCRIPTION:
URL:https://sghehn.de/event/bm-kk-50-meter-auflage/
LOCATION:Schießstand Rheindahlen\, Geusenstraße 27\, Mönchengladbach\, NRW\, 41179\, Deutschland
CATEGORIES:Bezirksmeisterschaft,Wettkampf
ATTACH;FMTTYPE=image/png:https://sghehn.de/wp-content/uploads/2025/02/Logo-Bezirk-04-e1740421831199.png
END:VEVENT
BEGIN:VEVENT
DTSTART;TZID=Europe/Berlin:20260207T120000
DTEND;TZID=Europe/Berlin:20260207T150000
DTSTAMP:20260420T112220
CREATED:20251004T072540Z
LAST-MODIFIED:20251004T073639Z
UID:6052-1770465600-1770476400@sghehn.de
SUMMARY:BM GK - UHR\, KK - UHR
DESCRIPTION:
URL:https://sghehn.de/event/bm-kk-uhr-2/
LOCATION:SG Bungt\, In der Bungt 80\, Mönchengaldbach\, NRW\, 41065\, Deutschland
CATEGORIES:Bezirksmeisterschaft,Wettkampf
ATTACH;FMTTYPE=image/png:https://sghehn.de/wp-content/uploads/2025/02/Logo-Bezirk-04-e1740421831199.png
END:VEVENT
BEGIN:VEVENT
DTSTART;TZID=Europe/Berlin:20260206T170000
DTEND;TZID=Europe/Berlin:20260206T190000
DTSTAMP:20260420T112220
CREATED:20251004T072424Z
LAST-MODIFIED:20251004T072424Z
UID:6050-1770397200-1770404400@sghehn.de
SUMMARY:BM Blasrohr
DESCRIPTION:
URL:https://sghehn.de/event/bm-blasrohr/
LOCATION:SSV Neuss-Reuschenberg\, Weberstraße 92\, Neuss\, NRW\, 41464\, Deutschland
CATEGORIES:Bezirksmeisterschaft,Wettkampf
ATTACH;FMTTYPE=image/png:https://sghehn.de/wp-content/uploads/2025/02/Logo-Bezirk-04-e1740421831199.png
END:VEVENT
BEGIN:VEVENT
DTSTART;TZID=Europe/Berlin:20260204T180000
DTEND;TZID=Europe/Berlin:20260204T200000
DTSTAMP:20260420T112220
CREATED:20251004T071903Z
LAST-MODIFIED:20251004T071903Z
UID:6041-1770228000-1770235200@sghehn.de
SUMMARY:BM OSP - Standardpistole
DESCRIPTION:
URL:https://sghehn.de/event/bm-osp-standardpistole/
LOCATION:KLS Neuss – Allerheiligen\, Am Alten Bach 35\, Neuss\, NRW\, 41470\, Germany
CATEGORIES:Bezirksmeisterschaft,Wettkampf
ATTACH;FMTTYPE=image/png:https://sghehn.de/wp-content/uploads/2025/02/Logo-Bezirk-04-e1740421831199.png
END:VEVENT
BEGIN:VEVENT
DTSTART;TZID=Europe/Berlin:20260204T160000
DTEND;TZID=Europe/Berlin:20260204T190000
DTSTAMP:20260420T112220
CREATED:20251004T072302Z
LAST-MODIFIED:20251004T072302Z
UID:6048-1770220800-1770231600@sghehn.de
SUMMARY:BM 50 Meter Pistole\, 50 M Pistole - Auflage
DESCRIPTION:
URL:https://sghehn.de/event/bm-50-meter-pistole-50-m-pistole-auflage/
LOCATION:BSV Dormagen\, Bürger-Schützen-Allee\, Dormagen\, NRW\, 41539\, Germany
CATEGORIES:Bezirksmeisterschaft,Wettkampf
ATTACH;FMTTYPE=image/png:https://sghehn.de/wp-content/uploads/2025/02/Logo-Bezirk-04-e1740421831199.png
END:VEVENT
BEGIN:VEVENT
DTSTART;TZID=Europe/Berlin:20260203T180000
DTEND;TZID=Europe/Berlin:20260203T190000
DTSTAMP:20260420T112220
CREATED:20251004T071243Z
LAST-MODIFIED:20251004T071243Z
UID:6039-1770141600-1770145200@sghehn.de
SUMMARY:BM Lichtgewehr
DESCRIPTION:
URL:https://sghehn.de/event/bm-lichtgewehr-2/
LOCATION:SSV Neuss-Reuschenberg\, Weberstraße 92\, Neuss\, NRW\, 41464\, Deutschland
CATEGORIES:Bezirksmeisterschaft,Wettkampf
ATTACH;FMTTYPE=image/png:https://sghehn.de/wp-content/uploads/2025/02/Logo-Bezirk-04-e1740421831199.png
END:VEVENT
BEGIN:VEVENT
DTSTART;TZID=Europe/Berlin:20260202T173000
DTEND;TZID=Europe/Berlin:20260202T193000
DTSTAMP:20260420T112220
CREATED:20251004T071126Z
LAST-MODIFIED:20251004T071126Z
UID:6037-1770053400-1770060600@sghehn.de
SUMMARY:BM MLP - Mehrkampf - Standard
DESCRIPTION:
URL:https://sghehn.de/event/bm-mlp-mehrkampf-standard/
LOCATION:Schießstand Rheindahlen\, Geusenstraße 27\, Mönchengladbach\, NRW\, 41179\, Deutschland
CATEGORIES:Bezirksmeisterschaft,Wettkampf
ATTACH;FMTTYPE=image/png:https://sghehn.de/wp-content/uploads/2025/02/Logo-Bezirk-04-e1740421831199.png
END:VEVENT
BEGIN:VEVENT
DTSTART;VALUE=DATE:20260201
DTEND;VALUE=DATE:20260202
DTSTAMP:20260420T112220
CREATED:20251004T070958Z
LAST-MODIFIED:20251004T070958Z
UID:6035-1769904000-1769990399@sghehn.de
SUMMARY:BM KK 100 Meter Auflage 12 - 73
DESCRIPTION:
URL:https://sghehn.de/event/bm-kk-100-meter-auflage-12-73/
LOCATION:SG Bungt\, In der Bungt 80\, Mönchengaldbach\, NRW\, 41065\, Deutschland
CATEGORIES:Bezirksmeisterschaft,Wettkampf
ATTACH;FMTTYPE=image/png:https://sghehn.de/wp-content/uploads/2025/02/Logo-Bezirk-04-e1740421831199.png
END:VEVENT
BEGIN:VEVENT
DTSTART;VALUE=DATE:20260201
DTEND;VALUE=DATE:20260202
DTSTAMP:20260420T112220
CREATED:20251004T070823Z
LAST-MODIFIED:20251004T070823Z
UID:6033-1769904000-1769990399@sghehn.de
SUMMARY:BM KK 50 M - Auflage 74 - 79
DESCRIPTION:
URL:https://sghehn.de/event/bm-kk-50-m-auflage-74-79/
LOCATION:Schießstand Rheindahlen\, Geusenstraße 27\, Mönchengladbach\, NRW\, 41179\, Deutschland
CATEGORIES:Bezirksmeisterschaft,Wettkampf
ATTACH;FMTTYPE=image/png:https://sghehn.de/wp-content/uploads/2025/02/Logo-Bezirk-04-e1740421831199.png
END:VEVENT
BEGIN:VEVENT
DTSTART;TZID=Europe/Berlin:20260131T130000
DTEND;TZID=Europe/Berlin:20260131T170000
DTSTAMP:20260420T112220
CREATED:20251004T070515Z
LAST-MODIFIED:20251004T070515Z
UID:6028-1769864400-1769878800@sghehn.de
SUMMARY:BM Pistole 9 mm Luger
DESCRIPTION:
URL:https://sghehn.de/event/bm-pistole-9-mm-luger/
LOCATION:SG Bungt\, In der Bungt 80\, Mönchengaldbach\, NRW\, 41065\, Deutschland
CATEGORIES:Bezirksmeisterschaft,Wettkampf
ATTACH;FMTTYPE=image/png:https://sghehn.de/wp-content/uploads/2025/02/Logo-Bezirk-04-e1740421831199.png
END:VEVENT
BEGIN:VEVENT
DTSTART;TZID=Europe/Berlin:20260131T100000
DTEND;TZID=Europe/Berlin:20260131T170000
DTSTAMP:20260420T112220
CREATED:20251004T070648Z
LAST-MODIFIED:20251004T070709Z
UID:6030-1769853600-1769878800@sghehn.de
SUMMARY:BM Zimmerstutzen\, Zimmerstutzen - Auflage - KK 50 m Stehend
DESCRIPTION:
URL:https://sghehn.de/event/bm-zimmerstutzen-zimmerstutzen-auflage/
LOCATION:Schießstand Rheindahlen\, Geusenstraße 27\, Mönchengladbach\, NRW\, 41179\, Deutschland
CATEGORIES:Bezirksmeisterschaft,Wettkampf
ATTACH;FMTTYPE=image/png:https://sghehn.de/wp-content/uploads/2025/02/Logo-Bezirk-04-e1740421831199.png
END:VEVENT
BEGIN:VEVENT
DTSTART;VALUE=DATE:20260124
DTEND;VALUE=DATE:20260126
DTSTAMP:20260420T112220
CREATED:20251004T070025Z
LAST-MODIFIED:20251004T070025Z
UID:6021-1769212800-1769385599@sghehn.de
SUMMARY:BM Luftgewehr - Luftpistole
DESCRIPTION:
URL:https://sghehn.de/event/bm-luftgewehr-luftpistole-2/
LOCATION:SSV Neuss-Reuschenberg\, Weberstraße 92\, Neuss\, NRW\, 41464\, Deutschland
CATEGORIES:Bezirksmeisterschaft,Wettkampf
ATTACH;FMTTYPE=image/png:https://sghehn.de/wp-content/uploads/2025/02/Logo-Bezirk-04-e1740421831199.png
END:VEVENT
BEGIN:VEVENT
DTSTART;VALUE=DATE:20260123
DTEND;VALUE=DATE:20260125
DTSTAMP:20260420T112220
CREATED:20251004T070156Z
LAST-MODIFIED:20251004T070156Z
UID:6023-1769126400-1769299199@sghehn.de
SUMMARY:BM Luftgewehr - Auflage
DESCRIPTION:
URL:https://sghehn.de/event/bm-luftgewehr-auflage-3/
LOCATION:Hubertus Sportschützen Straberg 1966 e.V.\, Mühlenbuschweg 93\, Dormagen\, NRW\, 41542\, Deutschland
CATEGORIES:Bezirksmeisterschaft,Wettkampf
ATTACH;FMTTYPE=image/png:https://sghehn.de/wp-content/uploads/2025/02/Logo-Bezirk-04-e1740421831199.png
END:VEVENT
BEGIN:VEVENT
DTSTART;TZID=Europe/Berlin:20260118T093000
DTEND;TZID=Europe/Berlin:20260118T170000
DTSTAMP:20260420T112220
CREATED:20251001T123201Z
LAST-MODIFIED:20251001T125535Z
UID:5949-1768728600-1768755600@sghehn.de
SUMMARY:Luftgewehr LOL-Wettkampf unser "Heimkampf" in Straberg
DESCRIPTION:Am Sonntag den 18.01.2026 findet unser “Heimkampf” bei den Hubertus Sportschützen in Straberg statt. Es ist der vierte und damit letzte Landesoberliga Wettkampf der Luftgewehr Mannschaft in der Saison 2025. \nDie 1. Mannschaft der SG Hehn geht an diesem Tag zweimal an den Start: \n09:45 Uhr (Beginn Probe) gegen den BSV Friedrichsfeld\n13:45 Uhr (Beginn Probe) gegen die Ohligser SGem. 75/03 II
URL:https://sghehn.de/event/luftgewehr-lol-wettkampf-unser-heimkampf-in-straberg/
LOCATION:Hubertus Sportschützen Straberg 1966 e.V.\, Mühlenbuschweg 93\, Dormagen\, NRW\, 41542\, Deutschland
CATEGORIES:Ligawettkampf,Wettkampf
ATTACH;FMTTYPE=image/png:https://sghehn.de/wp-content/uploads/2023/03/LL-Gebiet-Nord.png
END:VEVENT
BEGIN:VEVENT
DTSTART;TZID=Europe/Berlin:20260111T110000
DTEND;TZID=Europe/Berlin:20260111T170000
DTSTAMP:20260420T112220
CREATED:20251001T125844Z
LAST-MODIFIED:20251001T125941Z
UID:5969-1768129200-1768150800@sghehn.de
SUMMARY:Luftpistole LOL-Wettkampf beim S.F.T. St. Tönis
DESCRIPTION:Am Sonntag den 11.01.2026 findet beim S.F.T. St. Tönis der vierte und damit letzte Landesoberliga Wettkampftag der Luftpistolen Mannschaft statt. \nDie 1. Mannschaft der SG Hehn geht an diesem Tag zweimal an den Start: \n11:15 Uhr (Beginn Probe) gegen den SuJC Bottrop\n15:15 Uhr (Beginn Probe) gegen die S.F.T. St. Tonis
URL:https://sghehn.de/event/luftpistole-lol-wettkampf-beim-s-f-t-st-toenis/
LOCATION:S.F.T. St. Tönis\, Geldener Str. 81\, Tönisvorst\, NRW\, 47918\, Germany
CATEGORIES:Ligawettkampf,Wettkampf
ATTACH;FMTTYPE=image/png:https://sghehn.de/wp-content/uploads/2023/03/LL-Gebiet-Nord.png
END:VEVENT
BEGIN:VEVENT
DTSTART;TZID=Europe/Berlin:20260104T110000
DTEND;TZID=Europe/Berlin:20260104T170000
DTSTAMP:20260420T112220
CREATED:20251001T125516Z
LAST-MODIFIED:20251001T125516Z
UID:5966-1767524400-1767546000@sghehn.de
SUMMARY:Luftpistole LOL-Wettkampf beim SC Tell Schmalbroich
DESCRIPTION:Am Sonntag den 04.01.2026 findet beim Haaner SV der dritte Landesoberliga Wettkampftag der Luftpistolen Mannschaft statt. \nDie 1. Mannschaft der SG Hehn geht an diesem Tag zweimal an den Start: \n11:15 Uhr (Beginn Probe) gegen den Polizei Sportschützen Essen\n15:15 Uhr (Beginn Probe) gegen den Haaner SV
URL:https://sghehn.de/event/luftpistole-lol-wettkampf-beim-sc-tell-schmalbroich-2/
LOCATION:Haaner SV\, Am schützenhaus 2\, Haan\, NRW\, 42781\, Germany
CATEGORIES:Ligawettkampf,Wettkampf
ATTACH;FMTTYPE=image/png:https://sghehn.de/wp-content/uploads/2023/03/LL-Gebiet-Nord.png
END:VEVENT
END:VCALENDAR