BEGIN:VCALENDAR
VERSION:2.0
PRODID:-//Schützengesellschaft Hehn 1910 e. V. - ECPv6.15.20//NONSGML v1.0//EN
CALSCALE:GREGORIAN
METHOD:PUBLISH
X-ORIGINAL-URL:https://sghehn.de
X-WR-CALDESC:Veranstaltungen für Schützengesellschaft Hehn 1910 e. V.
REFRESH-INTERVAL;VALUE=DURATION:PT1H
X-Robots-Tag:noindex
X-PUBLISHED-TTL:PT1H
BEGIN:VTIMEZONE
TZID:Europe/Berlin
BEGIN:DAYLIGHT
TZOFFSETFROM:+0100
TZOFFSETTO:+0200
TZNAME:CEST
DTSTART:20250330T010000
END:DAYLIGHT
BEGIN:STANDARD
TZOFFSETFROM:+0200
TZOFFSETTO:+0100
TZNAME:CET
DTSTART:20251026T010000
END:STANDARD
BEGIN:DAYLIGHT
TZOFFSETFROM:+0100
TZOFFSETTO:+0200
TZNAME:CEST
DTSTART:20260329T010000
END:DAYLIGHT
BEGIN:STANDARD
TZOFFSETFROM:+0200
TZOFFSETTO:+0100
TZNAME:CET
DTSTART:20261025T010000
END:STANDARD
BEGIN:DAYLIGHT
TZOFFSETFROM:+0100
TZOFFSETTO:+0200
TZNAME:CEST
DTSTART:20270328T010000
END:DAYLIGHT
BEGIN:STANDARD
TZOFFSETFROM:+0200
TZOFFSETTO:+0100
TZNAME:CET
DTSTART:20271031T010000
END:STANDARD
END:VTIMEZONE
BEGIN:VEVENT
DTSTART;TZID=Europe/Berlin:20260308T100000
DTEND;TZID=Europe/Berlin:20260308T170000
DTSTAMP:20260421T181412
CREATED:20260122T130015Z
LAST-MODIFIED:20260122T130931Z
UID:6530-1772964000-1772989200@sghehn.de
SUMMARY:Relegation zur Rheinlandliga - Luftgewehr
DESCRIPTION:Nach dem Erreichen des zweiten Platzes in der Landesoberliga\, steht nun die Relegation zur Rheinlandliga an. \nDie Mannschaft besteht aus den nachfolgenden Schützinnen und Schützen: \nDemi Holthuijzen / Annelore Bijnens \nUte Eckl \nSascha Peglow \nHardi Meyers \nKatharina Bode \nErsatz sind Kirsten Dimke und Guido Weingran \nErster Start ist um 11:20 Uhr\, der zweite um 15:20 Uhr \n  \n 
URL:https://sghehn.de/event/relegation-zur-rheinlandliga-luftgewehr/
LOCATION:Schießstand Inden/ Altdorf\, Merödgenerstr. 37\, Inden / Altdorf\, NRW\, 52459\, Germany
CATEGORIES:Relegation,Wettkampf
ATTACH;FMTTYPE=image/png:https://sghehn.de/wp-content/uploads/2023/03/Rheinischer_Schuetzenbund_Logo.png
END:VEVENT
BEGIN:VEVENT
DTSTART;TZID=Europe/Berlin:20260312T193000
DTEND;TZID=Europe/Berlin:20260312T220000
DTSTAMP:20260421T181412
CREATED:20260110T131356Z
LAST-MODIFIED:20260225T183321Z
UID:6502-1773343800-1773352800@sghehn.de
SUMMARY:Jahreshauptversammlung 2026
DESCRIPTION:Donnerstag 12. März 2026 um 19:30 Uhr \n\nDie Einladungen inkl. der Tagesordnung werden bis Mitte Februar allen Mitgliedern per Mail und/oder Post zugestellt. \n  \n 
URL:https://sghehn.de/event/jahreshauptversammlung-2026/
LOCATION:Haus Heiligenpesch\, Heiligenpessch 106\, Mönchengaldbach\, NRW\, 41069\, Deutschland
CATEGORIES:Ehrungen,Feierlichkeiten,Versammlungen
ATTACH;FMTTYPE=image/jpeg:https://sghehn.de/wp-content/uploads/2023/03/WEB-SG-Hehn-Wappen-1.jpg
END:VEVENT
BEGIN:VEVENT
DTSTART;TZID=Europe/Berlin:20260320T150000
DTEND;TZID=Europe/Berlin:20260320T170000
DTSTAMP:20260421T181412
CREATED:20260313T122529Z
LAST-MODIFIED:20260314T131002Z
UID:6969-1774018800-1774026000@sghehn.de
SUMMARY:Schießstandreinigung in Rheindahlen
DESCRIPTION:Wir sind im Monat März mit der Reinigung des KK-Standes in Rheindahlen dran. \nEs kann am Freitag\, den 20.03.2026 ab 15:00 Uhr gereinigt werden. \nEs müssen nachfolgende Arbeiten erledigt werden: \n\nPVC Böden kehren und nass reinigen.\nAufenthaltsraum vor dem KK-Stand reinigen.\nFenster. in dem Bereich reinigen.\nAlle Tische und Stühle reinigen.\nKontrollieren ob alle Schrauben an den Stühlen und Tischen fest sind\, ggf. anziehen oder ersetzen.\nAlle Teppichböden staubsaugen.\nMessrahmen reinigen. (Verblendung demontieren\, Messrahmen aus Halterung entfernen und Blei / Bleistaub vorsichtig entfernen.)\nKK-Stand nass reinigen.\nKK-Stand Blei aus den Granulatkugelfängen mit Trennmaschine enfernen\nKK-Stand Granulatblöcke tauschen / mit Granulat wieder verschweißen\nKK-Stand Betonblock mit Kugelfängen absaugen\, auch hinter dem Betonblock reinigen.
URL:https://sghehn.de/event/schiessstandreinigung-in-rheindahlen-2/
LOCATION:Schießstand Rheindahlen\, Geusenstraße 27\, Mönchengladbach\, NRW\, 41179\, Deutschland
CATEGORIES:Reinigung des Schießstands
ATTACH;FMTTYPE=image/jpeg:https://sghehn.de/wp-content/uploads/2023/03/wappen_sghehn_20prozent.jpg
END:VEVENT
BEGIN:VEVENT
DTSTART;TZID=Europe/Berlin:20260321T090000
DTEND;TZID=Europe/Berlin:20260321T170000
DTSTAMP:20260421T181412
CREATED:20260122T135452Z
LAST-MODIFIED:20260207T105241Z
UID:6547-1774083600-1774112400@sghehn.de
SUMMARY:Relegation zur Landesliga Luftgewehr-Auflage
DESCRIPTION:Nach dem Erreichen des ersten Platzes in der Bezirksliga\, steht nun für unsere erste Mannschaft die Relegation zur Landesliga an. \nDie Mannschaft besteht aus den nachfolgenden Schützinnen und Schützen: \nThomas Brocher \nStefan Model \nStephan Heitzer \nFredi Hermes \nClaudia Heinrichs \nErsatz sind Elke Rögge und Bert Kerfers
URL:https://sghehn.de/event/relegation-zur-landeliga-luftgewehr-auflage/
LOCATION:LLSt. Essen-Bergeborbeck\, Hafenstraße 10\, Essen\, NRW\, 45356\, Deutschland
CATEGORIES:Relegation,Wettkampf
ATTACH;FMTTYPE=image/png:https://sghehn.de/wp-content/uploads/2023/03/Rheinischer_Schuetzenbund_Logo.png
END:VEVENT
BEGIN:VEVENT
DTSTART;TZID=Europe/Berlin:20260322T100000
DTEND;TZID=Europe/Berlin:20260322T170000
DTSTAMP:20260421T181412
CREATED:20260122T134622Z
LAST-MODIFIED:20260222T182528Z
UID:6541-1774173600-1774198800@sghehn.de
SUMMARY:Relegation zur Landesliga - Luftgewehr
DESCRIPTION:Nach dem Erreichen des ersten Platzes in der Bezirksliga\, steht nun für unsere zweite Mannschaft die Relegation zur Landesliga an. \nDie Mannschaft besteht aus den nachfolgenden Schützinnen und Schützen: \nSofie Vanneste \nKirsten Dimke \nMax Ditges \nAlina Münch \nHeinz Dieter Werner \nErsatz sind Nils Deckers\, Jens Engel und Heiner Hansen \n 
URL:https://sghehn.de/event/relegation-zur-landesliga-luftgewehr-auflage/
LOCATION:LLSt. Essen-Bergeborbeck\, Hafenstraße 10\, Essen\, NRW\, 45356\, Deutschland
ATTACH;FMTTYPE=image/png:https://sghehn.de/wp-content/uploads/2023/03/Rheinischer_Schuetzenbund_Logo.png
END:VEVENT
END:VCALENDAR