BEGIN:VCALENDAR
VERSION:2.0
PRODID:-//Schützengesellschaft Hehn 1910 e. V. - ECPv6.15.20//NONSGML v1.0//EN
CALSCALE:GREGORIAN
METHOD:PUBLISH
X-WR-CALNAME:Schützengesellschaft Hehn 1910 e. V.
X-ORIGINAL-URL:https://sghehn.de
X-WR-CALDESC:Veranstaltungen für Schützengesellschaft Hehn 1910 e. V.
REFRESH-INTERVAL;VALUE=DURATION:PT1H
X-Robots-Tag:noindex
X-PUBLISHED-TTL:PT1H
BEGIN:VTIMEZONE
TZID:Europe/Berlin
BEGIN:DAYLIGHT
TZOFFSETFROM:+0100
TZOFFSETTO:+0200
TZNAME:CEST
DTSTART:20240331T010000
END:DAYLIGHT
BEGIN:STANDARD
TZOFFSETFROM:+0200
TZOFFSETTO:+0100
TZNAME:CET
DTSTART:20241027T010000
END:STANDARD
BEGIN:DAYLIGHT
TZOFFSETFROM:+0100
TZOFFSETTO:+0200
TZNAME:CEST
DTSTART:20250330T010000
END:DAYLIGHT
BEGIN:STANDARD
TZOFFSETFROM:+0200
TZOFFSETTO:+0100
TZNAME:CET
DTSTART:20251026T010000
END:STANDARD
BEGIN:DAYLIGHT
TZOFFSETFROM:+0100
TZOFFSETTO:+0200
TZNAME:CEST
DTSTART:20260329T010000
END:DAYLIGHT
BEGIN:STANDARD
TZOFFSETFROM:+0200
TZOFFSETTO:+0100
TZNAME:CET
DTSTART:20261025T010000
END:STANDARD
END:VTIMEZONE
BEGIN:VEVENT
DTSTART;TZID=Europe/Berlin:20250504T103000
DTEND;TZID=Europe/Berlin:20250504T163000
DTSTAMP:20260421T184325
CREATED:20250404T173141Z
LAST-MODIFIED:20250404T173141Z
UID:5414-1746354600-1746376200@sghehn.de
SUMMARY:Lichtschießen auf dem Pfarrfest in Hehn
DESCRIPTION:Auf dem Hehner Pfarrfest werden wir wieder mit unseren Lichtgewehren und der Lichtpistole ein kostenloses Probetraining für alle ab 8 Jahren anbieten. \nWenn ihr Zeit habt\, kommt vorbei und unterstützt uns und macht Werbung für unsere Jugendabteilung ! \n 
URL:https://sghehn.de/event/lichtschiessen-auf-dem-pfarrfest-in-hehn/
LOCATION:Turnhalle Hehn\, Heiligenpesch 77\, Mönchengladbach\, NRW\, 41069\, Deutschland
CATEGORIES:Feierlichkeiten,Jugend,Lichtschiessen
END:VEVENT
END:VCALENDAR