BEGIN:VCALENDAR
VERSION:2.0
PRODID:-//Schützengesellschaft Hehn 1910 e. V. - ECPv6.15.20//NONSGML v1.0//EN
CALSCALE:GREGORIAN
METHOD:PUBLISH
X-WR-CALNAME:Schützengesellschaft Hehn 1910 e. V.
X-ORIGINAL-URL:https://sghehn.de
X-WR-CALDESC:Veranstaltungen für Schützengesellschaft Hehn 1910 e. V.
REFRESH-INTERVAL;VALUE=DURATION:PT1H
X-Robots-Tag:noindex
X-PUBLISHED-TTL:PT1H
BEGIN:VTIMEZONE
TZID:Europe/Berlin
BEGIN:DAYLIGHT
TZOFFSETFROM:+0100
TZOFFSETTO:+0200
TZNAME:CEST
DTSTART:20240331T010000
END:DAYLIGHT
BEGIN:STANDARD
TZOFFSETFROM:+0200
TZOFFSETTO:+0100
TZNAME:CET
DTSTART:20241027T010000
END:STANDARD
BEGIN:DAYLIGHT
TZOFFSETFROM:+0100
TZOFFSETTO:+0200
TZNAME:CEST
DTSTART:20250330T010000
END:DAYLIGHT
BEGIN:STANDARD
TZOFFSETFROM:+0200
TZOFFSETTO:+0100
TZNAME:CET
DTSTART:20251026T010000
END:STANDARD
BEGIN:DAYLIGHT
TZOFFSETFROM:+0100
TZOFFSETTO:+0200
TZNAME:CEST
DTSTART:20260329T010000
END:DAYLIGHT
BEGIN:STANDARD
TZOFFSETFROM:+0200
TZOFFSETTO:+0100
TZNAME:CET
DTSTART:20261025T010000
END:STANDARD
END:VTIMEZONE
BEGIN:VEVENT
DTSTART;TZID=Europe/Berlin:20250112T100000
DTEND;TZID=Europe/Berlin:20250112T170000
DTSTAMP:20260422T015540
CREATED:20240928T061649Z
LAST-MODIFIED:20240928T063803Z
UID:4664-1736676000-1736701200@sghehn.de
SUMMARY:Landesoberliga Luftpistole in Rheindahlen
DESCRIPTION:Heimkampf der SG Hehn in Rheindahlen \n10.00 SG Hehn 1910 – Polizei Sportschützen Essen\n11.30 ASV Süchteln-Vorst – SC Tell Schmalbroich\n14.00 Polizei Sportschützen Essen – SC Tell Schmalbroich\n15.30 SG Hehn 1910 – ASV Süchteln-Vorst
URL:https://sghehn.de/event/landesoberliga-luftpistole-in-rheindahlen/
LOCATION:Schießstand Rheindahlen\, Geusenstraße 27\, Mönchengladbach\, NRW\, 41179\, Deutschland
CATEGORIES:Ligawettkampf,Wettkampf
ATTACH;FMTTYPE=image/png:https://sghehn.de/wp-content/uploads/2023/03/LOL-Gebiet-Nord.png
END:VEVENT
BEGIN:VEVENT
DTSTART;TZID=Europe/Berlin:20250119T100000
DTEND;TZID=Europe/Berlin:20250119T170000
DTSTAMP:20260422T015540
CREATED:20240928T062844Z
LAST-MODIFIED:20240928T063516Z
UID:4675-1737280800-1737306000@sghehn.de
SUMMARY:Landesoberliga Luftgewehr in Schmalbroich
DESCRIPTION:Landesoberliga Luftgewehr in Schmalbroich \n10.00 St. Seb. Düsseldorf-Bilk – SSV Neuss-Reuschenberg\n11.30 SC Tell Schmalbroich – SG Hehn 1910\n13.00 Ohligser SGem. 75/03 II – SpSch “AvL” Hamminkeln\n14.30 BSV Friedrichsfeld – Sp.Sch. St.Helena Xanten
URL:https://sghehn.de/event/landesoberliga-luftgewehr-in-schmalbroich/
LOCATION:SC Tell Schmalbroich\, Voesch 64\, Kempen\, NRW\, 47906\, Germany
CATEGORIES:Ligawettkampf,Wettkampf
ATTACH;FMTTYPE=image/png:https://sghehn.de/wp-content/uploads/2023/03/LOL-Gebiet-Nord.png
END:VEVENT
END:VCALENDAR