BEGIN:VCALENDAR
VERSION:2.0
PRODID:-//Schützengesellschaft Hehn 1910 e. V. - ECPv6.15.20//NONSGML v1.0//EN
CALSCALE:GREGORIAN
METHOD:PUBLISH
X-WR-CALNAME:Schützengesellschaft Hehn 1910 e. V.
X-ORIGINAL-URL:https://sghehn.de
X-WR-CALDESC:Veranstaltungen für Schützengesellschaft Hehn 1910 e. V.
REFRESH-INTERVAL;VALUE=DURATION:PT1H
X-Robots-Tag:noindex
X-PUBLISHED-TTL:PT1H
BEGIN:VTIMEZONE
TZID:Europe/Berlin
BEGIN:DAYLIGHT
TZOFFSETFROM:+0100
TZOFFSETTO:+0200
TZNAME:CEST
DTSTART:20240331T010000
END:DAYLIGHT
BEGIN:STANDARD
TZOFFSETFROM:+0200
TZOFFSETTO:+0100
TZNAME:CET
DTSTART:20241027T010000
END:STANDARD
BEGIN:DAYLIGHT
TZOFFSETFROM:+0100
TZOFFSETTO:+0200
TZNAME:CEST
DTSTART:20250330T010000
END:DAYLIGHT
BEGIN:STANDARD
TZOFFSETFROM:+0200
TZOFFSETTO:+0100
TZNAME:CET
DTSTART:20251026T010000
END:STANDARD
BEGIN:DAYLIGHT
TZOFFSETFROM:+0100
TZOFFSETTO:+0200
TZNAME:CEST
DTSTART:20260329T010000
END:DAYLIGHT
BEGIN:STANDARD
TZOFFSETFROM:+0200
TZOFFSETTO:+0100
TZNAME:CET
DTSTART:20261025T010000
END:STANDARD
END:VTIMEZONE
BEGIN:VEVENT
DTSTART;TZID=Europe/Berlin:20251012T103000
DTEND;TZID=Europe/Berlin:20251012T140000
DTSTAMP:20260423T162759
CREATED:20251001T121513Z
LAST-MODIFIED:20251001T122858Z
UID:5935-1760265000-1760277600@sghehn.de
SUMMARY:Luftgewehr LOL-Wettkampf beim Post SV Düsseldorf
DESCRIPTION:Am Sonntag den 12.10.2025 findet beim Post SV Düsseldorf der erste Landesoberliga Wettkampftag der Luftgewehr Mannschaft statt. \nDie 1. Mannschaft der SG Hehn wird um 10:45 Uhr (Beginn Probe) gegen den Aufsteiger KKS Sonsbeck starten.
URL:https://sghehn.de/event/luftgewehr-lol-wettkampf-beim-post-sv-duesseldorf/
LOCATION:Post SV Düsseldorf\, Dreherstr. 213a\, Düsseldorf\, NRW\, 40625\, Germany
CATEGORIES:Ligawettkampf,Wettkampf
ATTACH;FMTTYPE=image/png:https://sghehn.de/wp-content/uploads/2023/03/LL-Gebiet-Nord.png
END:VEVENT
END:VCALENDAR