BEGIN:VCALENDAR
VERSION:2.0
PRODID:-//Schützengesellschaft Hehn 1910 e. V. - ECPv6.15.20//NONSGML v1.0//EN
CALSCALE:GREGORIAN
METHOD:PUBLISH
X-ORIGINAL-URL:https://sghehn.de
X-WR-CALDESC:Veranstaltungen für Schützengesellschaft Hehn 1910 e. V.
REFRESH-INTERVAL;VALUE=DURATION:PT1H
X-Robots-Tag:noindex
X-PUBLISHED-TTL:PT1H
BEGIN:VTIMEZONE
TZID:Europe/Berlin
BEGIN:DAYLIGHT
TZOFFSETFROM:+0100
TZOFFSETTO:+0200
TZNAME:CEST
DTSTART:20240331T010000
END:DAYLIGHT
BEGIN:STANDARD
TZOFFSETFROM:+0200
TZOFFSETTO:+0100
TZNAME:CET
DTSTART:20241027T010000
END:STANDARD
BEGIN:DAYLIGHT
TZOFFSETFROM:+0100
TZOFFSETTO:+0200
TZNAME:CEST
DTSTART:20250330T010000
END:DAYLIGHT
BEGIN:STANDARD
TZOFFSETFROM:+0200
TZOFFSETTO:+0100
TZNAME:CET
DTSTART:20251026T010000
END:STANDARD
BEGIN:DAYLIGHT
TZOFFSETFROM:+0100
TZOFFSETTO:+0200
TZNAME:CEST
DTSTART:20260329T010000
END:DAYLIGHT
BEGIN:STANDARD
TZOFFSETFROM:+0200
TZOFFSETTO:+0100
TZNAME:CET
DTSTART:20261025T010000
END:STANDARD
END:VTIMEZONE
BEGIN:VEVENT
DTSTART;VALUE=DATE:20251018
DTEND;VALUE=DATE:20251019
DTSTAMP:20260423T131752
CREATED:20251007T151721Z
LAST-MODIFIED:20251007T151721Z
UID:6159-1760745600-1760831999@sghehn.de
SUMMARY:KM KK 50 M - Auflage
DESCRIPTION:
URL:https://sghehn.de/event/km-kk-50-m-auflage-2/
LOCATION:Schießstand Rheindahlen\, Geusenstraße 27\, Mönchengladbach\, NRW\, 41179\, Deutschland
CATEGORIES:Kreismeisterschaft,Wettkampf
ATTACH;FMTTYPE=image/jpeg:https://sghehn.de/wp-content/uploads/2023/03/Herunterladen-4-e1677960578459.jpg
END:VEVENT
BEGIN:VEVENT
DTSTART;VALUE=DATE:20251018
DTEND;VALUE=DATE:20251019
DTSTAMP:20260423T131752
CREATED:20251007T151925Z
LAST-MODIFIED:20251007T161117Z
UID:6161-1760745600-1760831999@sghehn.de
SUMMARY:KM 25 m Pistole - Auflage\, 25 m Standardpistole
DESCRIPTION:
URL:https://sghehn.de/event/km-25-m-pistole-auflage-2/
LOCATION:Schießstand Rheindahlen\, Geusenstraße 27\, Mönchengladbach\, NRW\, 41179\, Deutschland
CATEGORIES:Kreismeisterschaft,Wettkampf
ATTACH;FMTTYPE=image/jpeg:https://sghehn.de/wp-content/uploads/2023/03/Herunterladen-4-e1677960578459.jpg
END:VEVENT
BEGIN:VEVENT
DTSTART;VALUE=DATE:20251019
DTEND;VALUE=DATE:20251020
DTSTAMP:20260423T131752
CREATED:20251007T152233Z
LAST-MODIFIED:20251007T161140Z
UID:6165-1760832000-1760918399@sghehn.de
SUMMARY:KM KK 100 Meter\, KK 100 Meter - Auflage
DESCRIPTION:
URL:https://sghehn.de/event/km-kk-100-meter-kk-100-meter-auflage/
LOCATION:SG Bungt\, In der Bungt 80\, Mönchengaldbach\, NRW\, 41065\, Deutschland
CATEGORIES:Kreismeisterschaft,Wettkampf
ATTACH;FMTTYPE=image/jpeg:https://sghehn.de/wp-content/uploads/2023/03/Herunterladen-4-e1677960578459.jpg
END:VEVENT
BEGIN:VEVENT
DTSTART;VALUE=DATE:20251019
DTEND;VALUE=DATE:20251020
DTSTAMP:20260423T131752
CREATED:20251007T152419Z
LAST-MODIFIED:20251007T152419Z
UID:6167-1760832000-1760918399@sghehn.de
SUMMARY:KM 25 m Pistole\, 25 m Pistole beidhändig\, Zentralfeuerpistole
DESCRIPTION:
URL:https://sghehn.de/event/km-25-m-pistole-25-m-pistole-beidhaendig-zentralfeuerpistole/
LOCATION:SG Bungt\, In der Bungt 80\, Mönchengaldbach\, NRW\, 41065\, Deutschland
CATEGORIES:Kreismeisterschaft,Wettkampf
ATTACH;FMTTYPE=image/jpeg:https://sghehn.de/wp-content/uploads/2023/03/Herunterladen-4-e1677960578459.jpg
END:VEVENT
BEGIN:VEVENT
DTSTART;TZID=Europe/Berlin:20251019T170000
DTEND;TZID=Europe/Berlin:20251019T200000
DTSTAMP:20260423T131752
CREATED:20251007T154341Z
LAST-MODIFIED:20251007T154341Z
UID:6181-1760893200-1760904000@sghehn.de
SUMMARY:KM Ordonanzgewehr geschl.
DESCRIPTION:
URL:https://sghehn.de/event/km-ordonanzgewehr-geschl/
LOCATION:SG Bungt\, In der Bungt 80\, Mönchengaldbach\, NRW\, 41065\, Deutschland
CATEGORIES:Kreismeisterschaft,Wettkampf
ATTACH;FMTTYPE=image/jpeg:https://sghehn.de/wp-content/uploads/2023/03/Herunterladen-4-e1677960578459.jpg
END:VEVENT
BEGIN:VEVENT
DTSTART;VALUE=DATE:20251020
DTEND;VALUE=DATE:20251021
DTSTAMP:20260423T131752
CREATED:20251007T152034Z
LAST-MODIFIED:20251007T161217Z
UID:6163-1760918400-1761004799@sghehn.de
SUMMARY:KM Zimmerstutzen\, Zimmerstutzen-Auflage
DESCRIPTION:
URL:https://sghehn.de/event/km-25-m-standardpistole-2/
LOCATION:Schießstand Rheindahlen\, Geusenstraße 27\, Mönchengladbach\, NRW\, 41179\, Deutschland
CATEGORIES:Kreismeisterschaft,Wettkampf
ATTACH;FMTTYPE=image/jpeg:https://sghehn.de/wp-content/uploads/2023/03/Herunterladen-4-e1677960578459.jpg
END:VEVENT
BEGIN:VEVENT
DTSTART;VALUE=DATE:20251025
DTEND;VALUE=DATE:20251026
DTSTAMP:20260423T131752
CREATED:20251007T153025Z
LAST-MODIFIED:20251007T170801Z
UID:6171-1761350400-1761436799@sghehn.de
SUMMARY:KM UHR .22\, UHR GK
DESCRIPTION:
URL:https://sghehn.de/event/km-uhr-22-uhr-gk/
LOCATION:SG Bungt\, In der Bungt 80\, Mönchengaldbach\, NRW\, 41065\, Deutschland
CATEGORIES:Kreismeisterschaft,Wettkampf
ATTACH;FMTTYPE=image/jpeg:https://sghehn.de/wp-content/uploads/2023/03/Herunterladen-4-e1677960578459.jpg
END:VEVENT
BEGIN:VEVENT
DTSTART;VALUE=DATE:20251025
DTEND;VALUE=DATE:20251026
DTSTAMP:20260423T131752
CREATED:20251007T153617Z
LAST-MODIFIED:20251007T153651Z
UID:6173-1761350400-1761436799@sghehn.de
SUMMARY:KM 25 m Revolver .357 Magnum
DESCRIPTION:
URL:https://sghehn.de/event/km-25-m-revolver-357-magnum-2/
LOCATION:SG Bungt\, In der Bungt 80\, Mönchengaldbach\, NRW\, 41065\, Deutschland
CATEGORIES:Kreismeisterschaft,Wettkampf
ATTACH;FMTTYPE=image/jpeg:https://sghehn.de/wp-content/uploads/2023/03/Herunterladen-4-e1677960578459.jpg
END:VEVENT
BEGIN:VEVENT
DTSTART;VALUE=DATE:20251026
DTEND;VALUE=DATE:20251027
DTSTAMP:20260423T131752
CREATED:20251007T153908Z
LAST-MODIFIED:20251007T161330Z
UID:6175-1761436800-1761523199@sghehn.de
SUMMARY:KM 50 m Pistole\, 50 m Pistole - Auflage
DESCRIPTION:
URL:https://sghehn.de/event/km-50-m-pistole-50-m-pistole-auflage-2/
LOCATION:SG Bungt\, In der Bungt 80\, Mönchengaldbach\, NRW\, 41065\, Deutschland
CATEGORIES:Kreismeisterschaft,Wettkampf
ATTACH;FMTTYPE=image/jpeg:https://sghehn.de/wp-content/uploads/2023/03/Herunterladen-4-e1677960578459.jpg
END:VEVENT
END:VCALENDAR