BEGIN:VCALENDAR
VERSION:2.0
PRODID:-//Schützengesellschaft Hehn 1910 e. V. - ECPv6.15.20//NONSGML v1.0//EN
CALSCALE:GREGORIAN
METHOD:PUBLISH
X-ORIGINAL-URL:https://sghehn.de
X-WR-CALDESC:Veranstaltungen für Schützengesellschaft Hehn 1910 e. V.
REFRESH-INTERVAL;VALUE=DURATION:PT1H
X-Robots-Tag:noindex
X-PUBLISHED-TTL:PT1H
BEGIN:VTIMEZONE
TZID:Europe/Berlin
BEGIN:DAYLIGHT
TZOFFSETFROM:+0100
TZOFFSETTO:+0200
TZNAME:CEST
DTSTART:20240331T010000
END:DAYLIGHT
BEGIN:STANDARD
TZOFFSETFROM:+0200
TZOFFSETTO:+0100
TZNAME:CET
DTSTART:20241027T010000
END:STANDARD
BEGIN:DAYLIGHT
TZOFFSETFROM:+0100
TZOFFSETTO:+0200
TZNAME:CEST
DTSTART:20250330T010000
END:DAYLIGHT
BEGIN:STANDARD
TZOFFSETFROM:+0200
TZOFFSETTO:+0100
TZNAME:CET
DTSTART:20251026T010000
END:STANDARD
BEGIN:DAYLIGHT
TZOFFSETFROM:+0100
TZOFFSETTO:+0200
TZNAME:CEST
DTSTART:20260329T010000
END:DAYLIGHT
BEGIN:STANDARD
TZOFFSETFROM:+0200
TZOFFSETTO:+0100
TZNAME:CET
DTSTART:20261025T010000
END:STANDARD
END:VTIMEZONE
BEGIN:VEVENT
DTSTART;VALUE=DATE:20251109
DTEND;VALUE=DATE:20251110
DTSTAMP:20260424T135120
CREATED:20251007T154225Z
LAST-MODIFIED:20251009T061232Z
UID:6179-1762646400-1762732799@sghehn.de
SUMMARY:KM Luftgewehr-Auflage\, Luftpistole - Auflage
DESCRIPTION:
URL:https://sghehn.de/event/km-luftgewehr-auflage-luftpistole-auflage/
LOCATION:Schießstand Rheindahlen\, Geusenstraße 27\, Mönchengladbach\, NRW\, 41179\, Deutschland
CATEGORIES:Kreismeisterschaft,Wettkampf
ATTACH;FMTTYPE=image/jpeg:https://sghehn.de/wp-content/uploads/2023/03/Herunterladen-4-e1677960578459.jpg
END:VEVENT
BEGIN:VEVENT
DTSTART;TZID=Europe/Berlin:20251112T170000
DTEND;TZID=Europe/Berlin:20251112T200000
DTSTAMP:20260424T135120
CREATED:20251007T154046Z
LAST-MODIFIED:20251007T161417Z
UID:6177-1762966800-1762977600@sghehn.de
SUMMARY:KM Ordonanzgewehr offen
DESCRIPTION:
URL:https://sghehn.de/event/km-ordonanzgewehr-offen/
LOCATION:SG Bungt\, In der Bungt 80\, Mönchengaldbach\, NRW\, 41065\, Deutschland
CATEGORIES:Kreismeisterschaft,Wettkampf
ATTACH;FMTTYPE=image/jpeg:https://sghehn.de/wp-content/uploads/2023/03/Herunterladen-4-e1677960578459.jpg
END:VEVENT
BEGIN:VEVENT
DTSTART;TZID=Europe/Berlin:20251122T130000
DTEND;TZID=Europe/Berlin:20251122T170000
DTSTAMP:20260424T135120
CREATED:20251007T154507Z
LAST-MODIFIED:20251007T154507Z
UID:6184-1763816400-1763830800@sghehn.de
SUMMARY:KM 25 m Pistole 9 mm Luger
DESCRIPTION:
URL:https://sghehn.de/event/km-25-m-pistole-9-mm-luger-2/
LOCATION:SG Bungt\, In der Bungt 80\, Mönchengaldbach\, NRW\, 41065\, Deutschland
CATEGORIES:Kreismeisterschaft,Wettkampf
ATTACH;FMTTYPE=image/jpeg:https://sghehn.de/wp-content/uploads/2023/03/Herunterladen-4-e1677960578459.jpg
END:VEVENT
BEGIN:VEVENT
DTSTART;TZID=Europe/Berlin:20251130T093000
DTEND;TZID=Europe/Berlin:20251130T170000
DTSTAMP:20260424T135120
CREATED:20251007T154643Z
LAST-MODIFIED:20251007T161533Z
UID:6186-1764495000-1764522000@sghehn.de
SUMMARY:KM 25 m Pistole .45 ACP
DESCRIPTION:
URL:https://sghehn.de/event/km-25-m-pistole-45-acp-2/
LOCATION:SG Bungt\, In der Bungt 80\, Mönchengaldbach\, NRW\, 41065\, Deutschland
CATEGORIES:Kreismeisterschaft,Wettkampf
ATTACH;FMTTYPE=image/jpeg:https://sghehn.de/wp-content/uploads/2023/03/Herunterladen-4-e1677960578459.jpg
END:VEVENT
END:VCALENDAR