BEGIN:VCALENDAR
VERSION:2.0
PRODID:-//Schützengesellschaft Hehn 1910 e. V. - ECPv6.15.20//NONSGML v1.0//EN
CALSCALE:GREGORIAN
METHOD:PUBLISH
X-WR-CALNAME:Schützengesellschaft Hehn 1910 e. V.
X-ORIGINAL-URL:https://sghehn.de
X-WR-CALDESC:Veranstaltungen für Schützengesellschaft Hehn 1910 e. V.
REFRESH-INTERVAL;VALUE=DURATION:PT1H
X-Robots-Tag:noindex
X-PUBLISHED-TTL:PT1H
BEGIN:VTIMEZONE
TZID:Europe/Berlin
BEGIN:DAYLIGHT
TZOFFSETFROM:+0100
TZOFFSETTO:+0200
TZNAME:CEST
DTSTART:20240331T010000
END:DAYLIGHT
BEGIN:STANDARD
TZOFFSETFROM:+0200
TZOFFSETTO:+0100
TZNAME:CET
DTSTART:20241027T010000
END:STANDARD
BEGIN:DAYLIGHT
TZOFFSETFROM:+0100
TZOFFSETTO:+0200
TZNAME:CEST
DTSTART:20250330T010000
END:DAYLIGHT
BEGIN:STANDARD
TZOFFSETFROM:+0200
TZOFFSETTO:+0100
TZNAME:CET
DTSTART:20251026T010000
END:STANDARD
BEGIN:DAYLIGHT
TZOFFSETFROM:+0100
TZOFFSETTO:+0200
TZNAME:CEST
DTSTART:20260329T010000
END:DAYLIGHT
BEGIN:STANDARD
TZOFFSETFROM:+0200
TZOFFSETTO:+0100
TZNAME:CET
DTSTART:20261025T010000
END:STANDARD
END:VTIMEZONE
BEGIN:VEVENT
DTSTART;VALUE=DATE:20251206
DTEND;VALUE=DATE:20251207
DTSTAMP:20260424T140926
CREATED:20251007T154959Z
LAST-MODIFIED:20251007T161616Z
UID:6190-1764979200-1765065599@sghehn.de
SUMMARY:KM KK - 3 Position\, KK - Liegendkampf
DESCRIPTION:
URL:https://sghehn.de/event/km-kk-3-position-kk-liegendkampf-2/
LOCATION:Schießstand Rheindahlen\, Geusenstraße 27\, Mönchengladbach\, NRW\, 41179\, Deutschland
CATEGORIES:Kreismeisterschaft,Wettkampf
ATTACH;FMTTYPE=image/jpeg:https://sghehn.de/wp-content/uploads/2023/03/Herunterladen-4-e1677960578459.jpg
END:VEVENT
BEGIN:VEVENT
DTSTART;TZID=Europe/Berlin:20251206T080000
DTEND;TZID=Europe/Berlin:20251206T170000
DTSTAMP:20260424T140926
CREATED:20251007T154823Z
LAST-MODIFIED:20251007T161946Z
UID:6188-1765008000-1765040400@sghehn.de
SUMMARY:KM 25 m OSP\, 25 m OSP kurz
DESCRIPTION:
URL:https://sghehn.de/event/km-25-m-osp-25-m-osp-kurz/
LOCATION:Schießstand Rheindahlen\, Geusenstraße 27\, Mönchengladbach\, NRW\, 41179\, Deutschland
CATEGORIES:Kreismeisterschaft,Wettkampf
ATTACH;FMTTYPE=image/jpeg:https://sghehn.de/wp-content/uploads/2023/03/Herunterladen-4-e1677960578459.jpg
END:VEVENT
BEGIN:VEVENT
DTSTART;VALUE=DATE:20251207
DTEND;VALUE=DATE:20251208
DTSTAMP:20260424T140926
CREATED:20251007T155108Z
LAST-MODIFIED:20251007T155108Z
UID:6192-1765065600-1765151999@sghehn.de
SUMMARY:KM Luftgewehr\, Luftpistole
DESCRIPTION:
URL:https://sghehn.de/event/km-luftgewehr-luftpistole/
LOCATION:Schießstand Rheindahlen\, Geusenstraße 27\, Mönchengladbach\, NRW\, 41179\, Deutschland
CATEGORIES:Kreismeisterschaft,Wettkampf
ATTACH;FMTTYPE=image/jpeg:https://sghehn.de/wp-content/uploads/2023/03/Herunterladen-4-e1677960578459.jpg
END:VEVENT
BEGIN:VEVENT
DTSTART;TZID=Europe/Berlin:20251209T170000
DTEND;TZID=Europe/Berlin:20251209T200000
DTSTAMP:20260424T140926
CREATED:20251007T155307Z
LAST-MODIFIED:20251007T161831Z
UID:6194-1765299600-1765310400@sghehn.de
SUMMARY:KM KK 3 x 40
DESCRIPTION:
URL:https://sghehn.de/event/km-kk-3-x-40-2/
LOCATION:Schießstand Rheindahlen\, Geusenstraße 27\, Mönchengladbach\, NRW\, 41179\, Deutschland
CATEGORIES:Kreismeisterschaft,Wettkampf
ATTACH;FMTTYPE=image/jpeg:https://sghehn.de/wp-content/uploads/2023/03/Herunterladen-4-e1677960578459.jpg
END:VEVENT
END:VCALENDAR